BEGIN:VCALENDAR
VERSION:2.0
PRODID:-//Belmont Golf Club - ECPv6.15.18//NONSGML v1.0//EN
CALSCALE:GREGORIAN
METHOD:PUBLISH
X-WR-CALNAME:Belmont Golf Club
X-ORIGINAL-URL:https://www.belmontgolfclub.com
X-WR-CALDESC:Events for Belmont Golf Club
REFRESH-INTERVAL;VALUE=DURATION:PT1H
X-Robots-Tag:noindex
X-PUBLISHED-TTL:PT1H
BEGIN:VTIMEZONE
TZID:UTC
BEGIN:STANDARD
TZOFFSETFROM:+0000
TZOFFSETTO:+0000
TZNAME:UTC
DTSTART:20230101T000000
END:STANDARD
END:VTIMEZONE
BEGIN:VEVENT
DTSTART;TZID=UTC:20241005T090000
DTEND;TZID=UTC:20241005T170000
DTSTAMP:20260421T053153
CREATED:20240821T201126Z
LAST-MODIFIED:20240920T151828Z
UID:10000002-1728118800-1728147600@www.belmontgolfclub.com
SUMMARY:Groundskeeper's Revenge
DESCRIPTION:Registration for this year’s Groundskeeper’s Revenge tournament is now open! \nThis super fun tournament is filled with obstacles and surprises at every hole. A portion of the proceeds of this tournament go to support Teen Challenge. \n\nsign up in teams of 4\nopen to members and the public\ntee time format with tee times starting at 9am (select your tee time with the clubhouse when you register)\ncash prizes awarded to the top 3 teams\n$25 registration fee if paying cash\, $26 if paying online/debit/credit\nRegistration includes $10 food voucher\, $10 towards cash prizes\, $5 for one putt in our “Putt to Win” contest\nEntry into a draw to win $500 off a 2025 season membership\n$32 weekday green fee plus optional $20 cart fee to be paid before the tournament\, or day of.\n\n  \nLink to pay registration fee online: \nGroundskeepers Revenge \nIf you choose to pay your registration fee online\, you must contact the clubhouse to secure your tee time. (clubhouse@belmontgolfclub.com or 519 644 1370)
URL:https://www.belmontgolfclub.com/event/groundskeepers-revenge/
END:VEVENT
END:VCALENDAR