BEGIN:VCALENDAR
VERSION:2.0
PRODID:-//Belmont Golf Club - ECPv6.15.18//NONSGML v1.0//EN
CALSCALE:GREGORIAN
METHOD:PUBLISH
X-WR-CALNAME:Belmont Golf Club
X-ORIGINAL-URL:https://www.belmontgolfclub.com
X-WR-CALDESC:Events for Belmont Golf Club
REFRESH-INTERVAL;VALUE=DURATION:PT1H
X-Robots-Tag:noindex
X-PUBLISHED-TTL:PT1H
BEGIN:VTIMEZONE
TZID:UTC
BEGIN:STANDARD
TZOFFSETFROM:+0000
TZOFFSETTO:+0000
TZNAME:UTC
DTSTART:20230101T000000
END:STANDARD
END:VTIMEZONE
BEGIN:VEVENT
DTSTART;TZID=UTC:20240828T150000
DTEND;TZID=UTC:20240828T173000
DTSTAMP:20260421T084727
CREATED:20240821T201247Z
LAST-MODIFIED:20240821T201247Z
UID:10000003-1724857200-1724866200@www.belmontgolfclub.com
SUMMARY:Junior Golf Tournament
DESCRIPTION:Join us for a Juniors Tournament on Wednesday\, August 28th. Open to ages 13 – 18. \nRegistration fee of $25 includes your 9 hole green fee\, before or after round meal\, and prizes. \nSelect your tee time anytime between 3 and 5:50pm. Sign up in the clubhouse.
URL:https://www.belmontgolfclub.com/event/junior-golf-tournament/
END:VEVENT
END:VCALENDAR