BEGIN:VCALENDAR
VERSION:2.0
PRODID:-//Belmont Golf Club - ECPv6.15.18//NONSGML v1.0//EN
CALSCALE:GREGORIAN
METHOD:PUBLISH
X-WR-CALNAME:Belmont Golf Club
X-ORIGINAL-URL:https://www.belmontgolfclub.com
X-WR-CALDESC:Events for Belmont Golf Club
REFRESH-INTERVAL;VALUE=DURATION:PT1H
X-Robots-Tag:noindex
X-PUBLISHED-TTL:PT1H
BEGIN:VTIMEZONE
TZID:UTC
BEGIN:STANDARD
TZOFFSETFROM:+0000
TZOFFSETTO:+0000
TZNAME:UTC
DTSTART:20250101T000000
END:STANDARD
END:VTIMEZONE
BEGIN:VEVENT
DTSTART;TZID=UTC:20260528T150000
DTEND;TZID=UTC:20260528T200000
DTSTAMP:20260421T053922
CREATED:20260417T135548Z
LAST-MODIFIED:20260417T135548Z
UID:10000006-1779980400-1779998400@www.belmontgolfclub.com
SUMMARY:Ladies Night at Belmont
DESCRIPTION:Ladies Night at Belmont hosted by the Belmont Ladies League.
URL:https://www.belmontgolfclub.com/event/ladies-night-at-belmont/
END:VEVENT
END:VCALENDAR