BEGIN:VCALENDAR
VERSION:2.0
PRODID:-//Belmont Golf Club - ECPv6.15.18//NONSGML v1.0//EN
CALSCALE:GREGORIAN
METHOD:PUBLISH
X-WR-CALNAME:Belmont Golf Club
X-ORIGINAL-URL:https://www.belmontgolfclub.com
X-WR-CALDESC:Events for Belmont Golf Club
REFRESH-INTERVAL;VALUE=DURATION:PT1H
X-Robots-Tag:noindex
X-PUBLISHED-TTL:PT1H
BEGIN:VTIMEZONE
TZID:UTC
BEGIN:STANDARD
TZOFFSETFROM:+0000
TZOFFSETTO:+0000
TZNAME:UTC
DTSTART:20250101T000000
END:STANDARD
END:VTIMEZONE
BEGIN:VEVENT
DTSTART;TZID=UTC:20260421T180000
DTEND;TZID=UTC:20260421T190000
DTSTAMP:20260420T230121
CREATED:20260417T135430Z
LAST-MODIFIED:20260417T135430Z
UID:10000005-1776794400-1776798000@www.belmontgolfclub.com
SUMMARY:Mens League Meeting
DESCRIPTION:Join us in the clubhouse for our Mens League info night. We will be going over the details of this year’s league and taking questions. You can sign up for your first round and meet some of the other guys in the league.
URL:https://www.belmontgolfclub.com/event/mens-league-meeting/
END:VEVENT
END:VCALENDAR